BEGIN:VCALENDAR
VERSION:2.0
PRODID:-//https://totalbodytrifecta.com//NONSGML kigkonsult.se iCalcreator 2.41.71//
CALSCALE:GREGORIAN
METHOD:PUBLISH
UID:65386236-3030-4430-b430-613735323338
X-WR-CALNAME:JCal Pro Calendar
X-WR-CALDESC:Your online events calendar
X-WR-TIMEZONE:America/New_York
BEGIN:VTIMEZONE
TZID:America/New_York
TZUNTIL:20271107T060000Z
BEGIN:STANDARD
TZNAME:EST
DTSTART:20251102T020000
TZOFFSETFROM:-0400
TZOFFSETTO:-0500
RDATE:20261101T020000
END:STANDARD
BEGIN:DAYLIGHT
TZNAME:EDT
DTSTART:20260308T020000
TZOFFSETFROM:-0500
TZOFFSETTO:-0400
RDATE:20270314T020000
END:DAYLIGHT
END:VTIMEZONE
BEGIN:VEVENT
UID:20260416T100000UTC-5528WZOKpd@https://totalbodytrifecta.com/
DTSTAMP:20260424T191547Z
CATEGORIES:TBT87 Virtual
DTSTART;TZID=America/New_York:20260416T100000
DTEND;TZID=America/New_York:20260416T104500
RRULE:FREQ=WEEKLY;COUNT=3;INTERVAL=1;BYDAY=TH
SUMMARY:Ballet Barre & Balance
URL:https://totalbodytrifecta.com/class-schedule/110-ballet-barre-balance
END:VEVENT
END:VCALENDAR
