BEGIN:VCALENDAR
VERSION:2.0
PRODID:-//https://totalbodytrifecta.com//NONSGML kigkonsult.se iCalcreator 2.41.71//
CALSCALE:GREGORIAN
METHOD:PUBLISH
UID:66303838-3161-4961-b031-666637313961
X-WR-CALNAME:JCal Pro Calendar
X-WR-CALDESC:Your online events calendar
X-WR-TIMEZONE:America/New_York
BEGIN:VTIMEZONE
TZID:America/New_York
TZUNTIL:20271107T060000Z
BEGIN:STANDARD
TZNAME:EST
DTSTART:20251102T020000
TZOFFSETFROM:-0400
TZOFFSETTO:-0500
RDATE:20261101T020000
END:STANDARD
BEGIN:DAYLIGHT
TZNAME:EDT
DTSTART:20260308T020000
TZOFFSETFROM:-0500
TZOFFSETTO:-0400
RDATE:20270314T020000
END:DAYLIGHT
END:VTIMEZONE
BEGIN:VEVENT
UID:20260414T163000UTC-96867VzGU1@https://totalbodytrifecta.com/
DTSTAMP:20260424T192107Z
CATEGORIES:TBT87 Virtual
DTSTART;TZID=America/New_York:20260414T163000
DTEND;TZID=America/New_York:20260414T173000
RRULE:FREQ=WEEKLY;COUNT=3;INTERVAL=1;BYDAY=TU
SUMMARY:Barre Above
URL:https://totalbodytrifecta.com/class-schedule/103-barre-above
END:VEVENT
END:VCALENDAR
