BEGIN:VCALENDAR
VERSION:2.0
PRODID:-//https://totalbodytrifecta.com//NONSGML kigkonsult.se iCalcreator 2.41.71//
CALSCALE:GREGORIAN
METHOD:PUBLISH
UID:64646636-3235-4335-a362-663963393936
X-WR-CALNAME:JCal Pro Calendar
X-WR-CALDESC:Your online events calendar
X-WR-TIMEZONE:America/New_York
BEGIN:VTIMEZONE
TZID:America/New_York
TZUNTIL:20271107T060000Z
BEGIN:STANDARD
TZNAME:EST
DTSTART:20251102T020000
TZOFFSETFROM:-0400
TZOFFSETTO:-0500
RDATE:20261101T020000
END:STANDARD
BEGIN:DAYLIGHT
TZNAME:EDT
DTSTART:20260308T020000
TZOFFSETFROM:-0500
TZOFFSETTO:-0400
RDATE:20270314T020000
END:DAYLIGHT
END:VTIMEZONE
BEGIN:VEVENT
UID:20260421T100000UTC-04396UN8jg@https://totalbodytrifecta.com/
DTSTAMP:20260424T191535Z
CATEGORIES:TBT87 Virtual
DTSTART;TZID=America/New_York:20260421T100000
DTEND;TZID=America/New_York:20260421T110000
SUMMARY:Pilates Mat
URL:https://totalbodytrifecta.com/class-schedule/101-pilates-mat
END:VEVENT
END:VCALENDAR
